BEGIN:VCALENDAR
VERSION:2.0
PRODID:-//colchesterindians - ECPv6.15.20//NONSGML v1.0//EN
CALSCALE:GREGORIAN
METHOD:PUBLISH
X-ORIGINAL-URL:https://colchesterindians.org
X-WR-CALDESC:Events for colchesterindians
REFRESH-INTERVAL;VALUE=DURATION:PT1H
X-Robots-Tag:noindex
X-PUBLISHED-TTL:PT1H
BEGIN:VTIMEZONE
TZID:UTC
BEGIN:STANDARD
TZOFFSETFROM:+0000
TZOFFSETTO:+0000
TZNAME:UTC
DTSTART:20240101T000000
END:STANDARD
END:VTIMEZONE
BEGIN:VEVENT
DTSTART;VALUE=DATE:20250906
DTEND;VALUE=DATE:20250907
DTSTAMP:20260423T042908
CREATED:20250801T105445Z
LAST-MODIFIED:20250823T114825Z
UID:1524-1757116800-1757203199@colchesterindians.org
SUMMARY:Rice & Spice Festival
DESCRIPTION:These annual cultural events are organised by the Multi Ethnic Forum (MEF)\, celebrating diversity through food\, music\, and community spirit. Senior members of the Colchester India Association proudly offer their time and experience as volunteers\, helping bring the festival to life. CIA committee members and dedicated volunteers also run a vibrant stall at the event to raise funds for charitable and community initiatives\, showcasing our continued commitment to unity\, culture\, and giving back.
URL:https://colchesterindians.org/event/rice-spice-festival/
LOCATION:Lewis Gardens\, Firstsite\, Colchester\, CO1 1JH\, United Kingdom
CATEGORIES:Fundraising
ATTACH;FMTTYPE=image/jpeg:https://colchesterindians.org/wp-content/uploads/2025/08/Rice-and-spice-2.jpg
END:VEVENT
END:VCALENDAR