BEGIN:VCALENDAR
VERSION:2.0
PRODID:-//colchesterindians - ECPv6.15.20//NONSGML v1.0//EN
CALSCALE:GREGORIAN
METHOD:PUBLISH
X-ORIGINAL-URL:https://colchesterindians.org
X-WR-CALDESC:Events for colchesterindians
REFRESH-INTERVAL;VALUE=DURATION:PT1H
X-Robots-Tag:noindex
X-PUBLISHED-TTL:PT1H
BEGIN:VTIMEZONE
TZID:UTC
BEGIN:STANDARD
TZOFFSETFROM:+0000
TZOFFSETTO:+0000
TZNAME:UTC
DTSTART:20240101T000000
END:STANDARD
END:VTIMEZONE
BEGIN:VEVENT
DTSTART;VALUE=DATE:20251101
DTEND;VALUE=DATE:20251102
DTSTAMP:20260422T232326
CREATED:20250801T105507Z
LAST-MODIFIED:20251211T131203Z
UID:1525-1761955200-1762041599@colchesterindians.org
SUMMARY:Curry Nights
DESCRIPTION:Curry Nights are heartfelt annual fundraising events organised to support the RNLI Lifeboat Station in Clacton. Hosted in local restaurants or community halls\, these evenings bring people together over delicious Indian cuisine for a meaningful cause. Supported by the local and wider communities\, the event blends food\, friendship\, and generosity—showcasing the power of community spirit and shared purpose.
URL:https://colchesterindians.org/event/curry-nights/
CATEGORIES:Fundraising
ATTACH;FMTTYPE=image/jpeg:https://colchesterindians.org/wp-content/uploads/2025/08/senior-club.jpg
END:VEVENT
END:VCALENDAR