BEGIN:VCALENDAR
VERSION:2.0
PRODID:-//colchesterindians - ECPv6.15.20//NONSGML v1.0//EN
CALSCALE:GREGORIAN
METHOD:PUBLISH
X-WR-CALNAME:colchesterindians
X-ORIGINAL-URL:https://colchesterindians.org
X-WR-CALDESC:Events for colchesterindians
REFRESH-INTERVAL;VALUE=DURATION:PT1H
X-Robots-Tag:noindex
X-PUBLISHED-TTL:PT1H
BEGIN:VTIMEZONE
TZID:UTC
BEGIN:STANDARD
TZOFFSETFROM:+0000
TZOFFSETTO:+0000
TZNAME:UTC
DTSTART:20240101T000000
END:STANDARD
END:VTIMEZONE
BEGIN:VEVENT
DTSTART;TZID=UTC:20251001T080000
DTEND;TZID=UTC:20251020T170000
DTSTAMP:20260422T180643
CREATED:20250801T105520Z
LAST-MODIFIED:20251013T173150Z
UID:1526-1759305600-1760979600@colchesterindians.org
SUMMARY:Independence Day Celebration
DESCRIPTION:Independence Day\, celebrated every year on 15th August\, marks a proud moment in India’s history—commemorating the nation’s freedom from British rule in 1947. For the Colchester India Association\, it is a day of deep significance and heartfelt celebration. \nCommunity members gather to honour this historic occasion with a flag-raising ceremony\, the singing of the Indian national anthem\, and cultural performances that reflect the spirit\, resilience\, and unity of India. In 2025\, this special day will also host our Annual General Meeting (AGM)—a moment to reflect on our journey\, celebrate our achievements\, and shape the future together. \nMore than just a patriotic observance\, this event is a beautiful reminder of our roots\, values\, and the strength we find in community—bringing together generations\, cultures\, and hearts in Britain’s First City. \n\n \nIf you need to join this event
URL:https://colchesterindians.org/event/independence-day-celebration/
CATEGORIES:Other
ATTACH;FMTTYPE=image/jpeg:https://colchesterindians.org/wp-content/uploads/2025/08/Independence-day-2.jpg
END:VEVENT
BEGIN:VEVENT
DTSTART;TZID=UTC:20250801T080000
DTEND;TZID=UTC:20250801T170000
DTSTAMP:20260422T180643
CREATED:20250801T105605Z
LAST-MODIFIED:20250819T130156Z
UID:1534-1754035200-1754067600@colchesterindians.org
SUMMARY:The Carrom Club
DESCRIPTION:The Carrom Club is a vibrant and inclusive gathering at the Community360 Hub\, dedicated to celebrating one of India’s most beloved indoor board games. It’s especially valuable for Indian university students who are new to Colchester\, giving them an opportunity to enjoy a familiar game\, meet new people\, and feel a little\ncloser to home. \nWhile celebrating tradition\, the club also welcomes locals to learn and engage creating a unique cultural exchange where skills are shared\, friendships are formed\, and community grows across generations and backgrounds.
URL:https://colchesterindians.org/event/the-carrom-club/
CATEGORIES:Other
ATTACH;FMTTYPE=image/jpeg:https://colchesterindians.org/wp-content/uploads/2025/08/Carrom-club-2.jpg
END:VEVENT
BEGIN:VEVENT
DTSTART;TZID=UTC:20250801T080000
DTEND;TZID=UTC:20250801T170000
DTSTAMP:20260422T180643
CREATED:20250801T105549Z
LAST-MODIFIED:20250819T125955Z
UID:1528-1754035200-1754067600@colchesterindians.org
SUMMARY:Wednesday Seniors Club
DESCRIPTION:The Wednesday Seniors Club is a warm and inclusive space designed to support older adults\, single parents\, those seeking companionship\, and short-term visitors to Colchester. Hosted at the Community360 Hub\, the gatherings aim to ease feelings of isolation and create a sense of belonging. \nPeople from different backgrounds and countries come together to share homemade food\, stories\, laughter\, and cultural traditions. It’s a heartwarming initiative that brings generations and communities closer—celebrating connection\, understanding\, and the simple joy of being together
URL:https://colchesterindians.org/event/wednesday-seniors-club/
CATEGORIES:Other
ATTACH;FMTTYPE=image/jpeg:https://colchesterindians.org/wp-content/uploads/2025/08/senior-club-2.jpg
END:VEVENT
BEGIN:VEVENT
DTSTART;TZID=UTC:20250801T080000
DTEND;TZID=UTC:20250801T170000
DTSTAMP:20260422T180643
CREATED:20250801T105534Z
LAST-MODIFIED:20250819T125915Z
UID:1527-1754035200-1754067600@colchesterindians.org
SUMMARY:Colchester Carnival
DESCRIPTION:The Colchester Carnival is a vibrant celebration of cultures\, where communities from across the city and beyond come together to share their identity with pride. For the Colchester India Association\, it’s a joyful opportunity to showcase the rich colours\, rhythms\, and spirit of Indian heritage. \nWe take part in the grand procession dressed in traditional attire\, dancing to the beats of desi music\, waving our flags\, and sharing the joy of our culture with thousands of spectators. It’s a chance for the wider community to witness and celebrate our Indian presence in Britain’s First City. \nAlongside the parade\, Castle Park comes alive with cultural stalls\, international cuisine\, music\, and entertainment from around the world. The carnival not only strengthens community ties but also gives us a proud platform to raise our profile and celebrate unity in diversity.
URL:https://colchesterindians.org/event/colchester-carnival/
CATEGORIES:Other
ATTACH;FMTTYPE=image/jpeg:https://colchesterindians.org/wp-content/uploads/2025/08/Colchester-carnival.jpg
END:VEVENT
END:VCALENDAR