BEGIN:VCALENDAR
VERSION:2.0
PRODID:-//colchesterindians - ECPv6.15.20//NONSGML v1.0//EN
CALSCALE:GREGORIAN
METHOD:PUBLISH
X-ORIGINAL-URL:https://colchesterindians.org
X-WR-CALDESC:Events for colchesterindians
REFRESH-INTERVAL;VALUE=DURATION:PT1H
X-Robots-Tag:noindex
X-PUBLISHED-TTL:PT1H
BEGIN:VTIMEZONE
TZID:UTC
BEGIN:STANDARD
TZOFFSETFROM:+0000
TZOFFSETTO:+0000
TZNAME:UTC
DTSTART:20250101T000000
END:STANDARD
END:VTIMEZONE
BEGIN:VEVENT
DTSTART;TZID=UTC:20260307T110000
DTEND;TZID=UTC:20260307T173000
DTSTAMP:20260422T135344
CREATED:20220331T064718Z
LAST-MODIFIED:20260127T191555Z
UID:677-1772881200-1772904600@colchesterindians.org
SUMMARY:Rang Barse: Grand Festival of Colours!
DESCRIPTION:The Festival of Colours\, or Holi\, is a vibrant celebration that unites families\, friends\, and communities across Colchester and nearby villages in joyful harmony. More than just a tradition\, it’s a burst of freedom\, laughter\, and love—where music\, dance\, and clouds of colour wash away daily worries. This magical day invites everyone to reconnect with their inner child\, breaking down all barriers of age\, culture\, and background. Together\, we celebrate life’s renewal\, shared happiness\, and the beautiful bonds that colours our hearts as one. A truly unforgettable family experience filled with warmth and togetherness. \n\n\nBuy Ticket \n\n \n  \n 
URL:https://colchesterindians.org/event/holi-festival-of-colours-a-celebration-beyond-boundaries/
CATEGORIES:Religious
ATTACH;FMTTYPE=image/jpeg:https://colchesterindians.org/wp-content/uploads/2022/03/1d9d3fb4-0645-4806-bd51-7e1d510620a7.jpeg
END:VEVENT
END:VCALENDAR