BEGIN:VCALENDAR
VERSION:2.0
PRODID:-//colchesterindians - ECPv6.15.20//NONSGML v1.0//EN
CALSCALE:GREGORIAN
METHOD:PUBLISH
X-WR-CALNAME:colchesterindians
X-ORIGINAL-URL:https://colchesterindians.org
X-WR-CALDESC:Events for colchesterindians
REFRESH-INTERVAL;VALUE=DURATION:PT1H
X-Robots-Tag:noindex
X-PUBLISHED-TTL:PT1H
BEGIN:VTIMEZONE
TZID:UTC
BEGIN:STANDARD
TZOFFSETFROM:+0000
TZOFFSETTO:+0000
TZNAME:UTC
DTSTART:20250101T000000
END:STANDARD
END:VTIMEZONE
BEGIN:VEVENT
DTSTART;TZID=UTC:20260418T160000
DTEND;TZID=UTC:20260418T210000
DTSTAMP:20260422T194117
CREATED:20260127T195116Z
LAST-MODIFIED:20260311T203211Z
UID:2713-1776528000-1776546000@colchesterindians.org
SUMMARY:Vaisakhi Celebration
DESCRIPTION:Vaisakhi is vibrant festival that marks the harvest session and celebrates community\, culture and togetherness. This special event will bring families and friends together to enjoy traditional music\, food and festivities in a joyful and welcoming atmosphere.  \nThis is a proud milestone for our local community\, and we look forward to celebrating this meaningful occasion together in Colchester for the very first time.  \nTime: 18th Apr 2026\nLocation:\nGreat Horkesley New Village Hall\nGreat Horkesley\, Colchester CO6 4EA \n\n\nBuy Tickets \n  \n 
URL:https://colchesterindians.org/event/cia-vaisakhi/
LOCATION:Great Horkesley\, Colchester\, CO6 4EA\, United Kingdom
CATEGORIES:Social
ATTACH;FMTTYPE=image/jpeg:https://colchesterindians.org/wp-content/uploads/2026/01/b9d2f114-2d1a-4a2e-8eb4-b9a9e9cd2d03.jpeg
END:VEVENT
END:VCALENDAR