BEGIN:VCALENDAR
VERSION:2.0
PRODID:-//colchesterindians - ECPv6.15.20//NONSGML v1.0//EN
CALSCALE:GREGORIAN
METHOD:PUBLISH
X-ORIGINAL-URL:https://colchesterindians.org
X-WR-CALDESC:Events for colchesterindians
REFRESH-INTERVAL;VALUE=DURATION:PT1H
X-Robots-Tag:noindex
X-PUBLISHED-TTL:PT1H
BEGIN:VTIMEZONE
TZID:UTC
BEGIN:STANDARD
TZOFFSETFROM:+0000
TZOFFSETTO:+0000
TZNAME:UTC
DTSTART:20250101T000000
END:STANDARD
END:VTIMEZONE
BEGIN:VEVENT
DTSTART;TZID=UTC:20260425T120000
DTEND;TZID=UTC:20260425T160000
DTSTAMP:20260422T194438
CREATED:20260127T192019Z
LAST-MODIFIED:20260310T225634Z
UID:2698-1777118400-1777132800@colchesterindians.org
SUMMARY:Colchester Badminton Tournament
DESCRIPTION:We are organising this badminton tournament to bring our local community together through sport. The event is designed for recreational and social players\, focusing on fun\, participation\, and friendly competition rather than high-level performance. It also aims to provide valuable competition experience\, which can often be difficult to gain at this level.\nOur goal is to create a welcoming space where players can enjoy the game\, build confidence\, and connect with others in the community. \nLast date of Entry: 15th Apr 2026 \nParticipant(s) must be residing in and around Colchester. \nLimited slots available – secure your place early! \n\n\nRegister Now! \n \n  \n 
URL:https://colchesterindians.org/event/colchester-inter-area-badminton-tournament/
CATEGORIES:Social
ATTACH;FMTTYPE=image/jpeg:https://colchesterindians.org/wp-content/uploads/2026/01/WhatsApp-Image-2026-02-18-at-4.42.09-PM.jpeg
END:VEVENT
END:VCALENDAR